BEGIN:VCALENDAR
VERSION:2.0
PRODID:-//ChamberMaster//Event Calendar 2.0//EN
METHOD:PUBLISH
X-PUBLISHED-TTL:P3D
REFRESH-INTERVAL:P3D
CALSCALE:GREGORIAN
BEGIN:VEVENT
DTSTART:20180911T213000Z
DTEND:20180911T223000Z
X-MICROSOFT-CDO-ALLDAYEVENT:FALSE
SUMMARY:Lecture on Small Real Estate Development
DESCRIPTION:Cultivating Neighborhoods & the Small Scale Development Movement\n\nDo you want to learn more about how you can become a small real estate developer for a project in your neighborhood?  Are you an advocate or local leader looking to encourage better buildings in your community?\n\n\n\nLearn More Here:\n\n\n	A New Strategy for Affordable Housing For a New Class of Developers. Maybe You?\n	September 11 Event Information - Free\n	October 11 Workshop - Registration Required\n\n\n\n\nJoin Jim Kumon\, Incremental Development Alliance Executive Director\, for this informative one hour lecture.  \n\n\n\nThe Asheville Home Builders Association is a Community Sponsor of this event.
X-ALT-DESC;FMTTYPE=text/html:<p style="margin-top: 0px\; word-wrap: break-word\; color: rgb(0\, 0\, 0)\; font-family: Bitter\; font-size: 15px\; letter-spacing: 0.45px\;"><br />\n<br />\n<span style="font-family:arial\;"><span style="font-size:16px\;"><strong>Cultivating Neighborhoods &amp\;&nbsp\;the Small Scale Development Movement</strong></span></span></p>\n\n<p style="word-wrap: break-word\; color: rgb(0\, 0\, 0)\; font-family: Bitter\; font-size: 15px\; letter-spacing: 0.45px\;"><span style="font-family:arial\;"><span style="font-size:16px\;">Do you want to learn more about how you can become a small real estate developer for a project in your neighborhood? &nbsp\;Are you an advocate or local leader looking to encourage better buildings in your community?<br />\n<br />\nLearn More Here:</span></span></p>\n\n<ul>\n	<li style="word-wrap: break-word\; color: rgb(0\, 0\, 0)\; font-family: Bitter\; font-size: 15px\; letter-spacing: 0.45px\;"><span style="font-family:arial\;"><span style="font-size:16px\;"><a href="https://ashevillehba.com/wp-content/uploads/2018/08/IncDev-Press-Release-1.pdf">A New Strategy for Affordable Housing For a New Class of Developers. Maybe You?</a></span></span></li>\n	<li style="word-wrap: break-word\; color: rgb(0\, 0\, 0)\; font-family: Bitter\; font-size: 15px\; letter-spacing: 0.45px\;"><span style="font-family:arial\;"><span style="font-size:16px\;"><a href="https://ashevillehba.com/wp-content/uploads/2018/08/Asheville-NC-Sep.-11-Lecture-Flyer-.pdf">September 11 Event Information</a> - Free</span></span></li>\n	<li style="word-wrap: break-word\; color: rgb(0\, 0\, 0)\; font-family: Bitter\; font-size: 15px\; letter-spacing: 0.45px\;"><span style="font-family:arial\;"><span style="font-size:16px\;"><a href="http://www.incrementaldevelopment.org/events/ashevilleworkshop">October 11 Workshop</a> - Registration Required</span></span></li>\n</ul>\n\n<p style="word-wrap: break-word\; color: rgb(0\, 0\, 0)\; font-family: Bitter\; font-size: 15px\; letter-spacing: 0.45px\;"><br style="word-wrap: break-word\;" />\n<span style="font-family:arial\;"><span style="font-size:16px\;">Join&nbsp\;Jim Kumon\, <a href="http://www.incrementaldevelopment.org/">Incremental Development Alliance</a>&nbsp\;Executive Director\, for this informative one hour lecture.&nbsp\;&nbsp\;<br />\n<br />\n<em>The Asheville Home Builders Association is a Community&nbsp\;Sponsor of this event.&nbsp\;</em></span></span></p>\n
LOCATION:US Cellular Center 87 Haywood Street Asheville NC 28801
UID:e.9512.2606
SEQUENCE:3
DTSTAMP:20260425T202415Z
URL:http://ashevillehba-dev.chambermaster.com/events/details/lecture-on-small-real-estate-development-2606
END:VEVENT

END:VCALENDAR
